BEGIN:VCALENDAR
VERSION:2.0
PRODID:icalendar-ruby
CALSCALE:GREGORIAN
METHOD:PUBLISH
BEGIN:VEVENT
DTSTAMP:20260424T095405Z
UID:107-80931@jeffersonchurch.life
DTSTART:20260522T220000Z
DTEND:20260523T000000Z
CLASS:PUBLIC
CREATED:20260423T132409
DESCRIPTION:Pack a picnic dinner and meet us at the Pavilion for Family Mov
 ie Night on Friday\, May 22 at 6pm! The featured film is "David".  We wil
 l supply popcorn and drinks during the movie.
LAST-MODIFIED:20260423T132409
LOCATION:Pavillion
SUMMARY:Family Movie Night
URL;VALUE=URI:https://www.jeffersonchurch.life/events/family-movie-night/20
 26-05-22
ATTACH;FILENAME=Family Movie Night (1).png;FMTTYPE=image/png:https://dq5pwp
 g1q8ru0.cloudfront.net/2026/04/23/17/24/08/78887c04-68d6-4078-a990-dbe2a36
 82428/Family%20Movie%20Night%20(1).png
END:VEVENT
END:VCALENDAR
